BEGIN:VCALENDAR
VERSION:2.0
PRODID:-// - ECPv6.15.20//NONSGML v1.0//EN
CALSCALE:GREGORIAN
METHOD:PUBLISH
X-ORIGINAL-URL:https://marionettentheater-blaubeuren.de
X-WR-CALDESC:Veranstaltungen für 
REFRESH-INTERVAL;VALUE=DURATION:PT1H
X-Robots-Tag:noindex
X-PUBLISHED-TTL:PT1H
BEGIN:VTIMEZONE
TZID:UTC
BEGIN:STANDARD
TZOFFSETFROM:+0000
TZOFFSETTO:+0000
TZNAME:UTC
DTSTART:20230101T000000
END:STANDARD
END:VTIMEZONE
BEGIN:VEVENT
DTSTART;TZID=UTC:20240218T170000
DTEND;TZID=UTC:20240218T180000
DTSTAMP:20260422T100109
CREATED:20240211T142029Z
LAST-MODIFIED:20240211T143516Z
UID:309-1708275600-1708279200@marionettentheater-blaubeuren.de
SUMMARY:Musik und Literatur zum 125. Geburtstag von Erich Kästner
DESCRIPTION:„Ich bin ein Deutscher aus Dresden in Sachsen. Mich lässt die Heimat nicht fort. Ich bin wie ein Baum\, der – in Deutschland gewachsen –wenn’s sein muss\, in Deutschland verdorrt.“ \nSiegfried Hermann liest Texte aus seiner Feder \nMusik: Michel Hermann und Sebastian Gengnagel \nEintritt: 10 € \n  \nReservierung bei Barbara Rinker: Telefon: 07344-9280014 oder per Email: info@marionettentheater-blaubeuren.de
URL:https://marionettentheater-blaubeuren.de/programm/musik-und-literatur-zum-125-geburtstag-von-erich-kaestner/
LOCATION:Theater in der Talmühle\, Karlstraße 44\, Blaubeuren\, 89143
CATEGORIES:Musik und Literatur
ATTACH;FMTTYPE=image/jpeg:https://marionettentheater-blaubeuren.de/wp-content/uploads/2024/02/Erich-Kaestner-e1707661197990.jpg
END:VEVENT
END:VCALENDAR