BEGIN:VCALENDAR
VERSION:2.0
PRODID:-// - ECPv6.15.20//NONSGML v1.0//EN
CALSCALE:GREGORIAN
METHOD:PUBLISH
X-ORIGINAL-URL:https://marionettentheater-blaubeuren.de
X-WR-CALDESC:Veranstaltungen für 
REFRESH-INTERVAL;VALUE=DURATION:PT1H
X-Robots-Tag:noindex
X-PUBLISHED-TTL:PT1H
BEGIN:VTIMEZONE
TZID:UTC
BEGIN:STANDARD
TZOFFSETFROM:+0000
TZOFFSETTO:+0000
TZNAME:UTC
DTSTART:20230101T000000
END:STANDARD
END:VTIMEZONE
BEGIN:VEVENT
DTSTART;TZID=UTC:20260208T150000
DTEND;TZID=UTC:20260208T160000
DTSTAMP:20260420T170407
CREATED:20251012T102514Z
LAST-MODIFIED:20260203T103355Z
UID:859-1770562800-1770566400@marionettentheater-blaubeuren.de
SUMMARY:Kaspertheater: Kasper und das Faschingstreiben im Schloss
DESCRIPTION:Feiern Sie mit Kasper ein närrisches Faschingstreiben im Schloss des Marionettentheaters Blaubeuren – voller Witz. \nIn diesem fröhlichen Stück hält Kasper Hof im Schloss\, wo bunte Kostüme\, lustige Streiche das närrische Publikum begeistern. Das Puppentheater lässt das Faschingstreiben mit liebevoll gestalteten Figuren und farbenfrohen Bühnenbildern lebendig werden. \nIdeal für Kinder ab 4 Jahren und Faschingsfans.
URL:https://marionettentheater-blaubeuren.de/programm/kaspertheater-blaubeuren-kasper-und-das-faschingstreiben-im-schloss-2/
LOCATION:Marionettentheater Blaubeuren\, Karlstraße 44\, Blaubeuren\, 89143\, Germany
CATEGORIES:Kaspertheater
ATTACH;FMTTYPE=image/jpeg:https://marionettentheater-blaubeuren.de/wp-content/uploads/2023/12/Kaspertheater-Einladung-zur-Faschingsparty.jpg
END:VEVENT
BEGIN:VEVENT
DTSTART;TZID=UTC:20260207T150000
DTEND;TZID=UTC:20260207T160000
DTSTAMP:20260420T170407
CREATED:20251011T100313Z
LAST-MODIFIED:20260203T103428Z
UID:790-1770476400-1770480000@marionettentheater-blaubeuren.de
SUMMARY:Kaspertheater: Kasper und das Faschingstreiben im Schloss
DESCRIPTION:Feiern Sie mit Kasper ein närrisches Faschingstreiben im Schloss des Marionettentheaters Blaubeuren – voller Witz. \nIn diesem fröhlichen Stück hält Kasper Hof im Schloss\, wo bunte Kostüme\, lustige Streiche das närrische Publikum begeistern. Das Puppentheater lässt das Faschingstreiben mit liebevoll gestalteten Figuren und farbenfrohen Bühnenbildern lebendig werden. \nIdeal für Kinder ab 4 Jahren und Faschingsfans.
URL:https://marionettentheater-blaubeuren.de/programm/kaspertheater-blaubeuren-kasper-und-das-faschingstreiben-im-schloss/
LOCATION:Marionettentheater Blaubeuren\, Karlstraße 44\, Blaubeuren\, 89143\, Germany
CATEGORIES:Kaspertheater
ATTACH;FMTTYPE=image/jpeg:https://marionettentheater-blaubeuren.de/wp-content/uploads/2023/12/Kaspertheater-Einladung-zur-Faschingsparty.jpg
END:VEVENT
BEGIN:VEVENT
DTSTART;TZID=UTC:20260125T150000
DTEND;TZID=UTC:20260125T160000
DTSTAMP:20260420T170407
CREATED:20251011T100009Z
LAST-MODIFIED:20251012T101715Z
UID:788-1769353200-1769356800@marionettentheater-blaubeuren.de
SUMMARY:Kaspertheater: Kasper auf dem Mond
DESCRIPTION:Auf den Mond reisen\, die Amerikaner können das\, die Chinesen können das\, warum nicht auch der Kasper und der Seppel? Gesagt getan. Was sie dort erleben\, das erzählen sie im Kaspertheater.
URL:https://marionettentheater-blaubeuren.de/programm/kaspertheater-blaubeuren-kasper-auf-dem-mond/
LOCATION:Marionettentheater Blaubeuren\, Karlstraße 44\, Blaubeuren\, 89143\, Germany
CATEGORIES:Kaspertheater
ATTACH;FMTTYPE=image/jpeg:https://marionettentheater-blaubeuren.de/wp-content/uploads/2025/10/Kasper-auf-dem-Mond.jpg
END:VEVENT
BEGIN:VEVENT
DTSTART;TZID=UTC:20260124T150000
DTEND;TZID=UTC:20260124T160000
DTSTAMP:20260420T170408
CREATED:20251011T095620Z
LAST-MODIFIED:20251012T101756Z
UID:782-1769266800-1769270400@marionettentheater-blaubeuren.de
SUMMARY:Kaspertheater: Kasper auf dem Mond
DESCRIPTION:Auf den Mond reisen\, die Amerikaner können das\, die Chinesen können das\, warum nicht auch der Kasper und der Seppel? Gesagt getan. Was sie dort erleben\, das erzählen sie im Kaspertheater. \n 
URL:https://marionettentheater-blaubeuren.de/programm/kasper-auf-dem-mond-marionettentheater-blaubeuren-kaspertheater/
LOCATION:Marionettentheater Blaubeuren\, Karlstraße 44\, Blaubeuren\, 89143\, Germany
CATEGORIES:Kaspertheater
ATTACH;FMTTYPE=image/jpeg:https://marionettentheater-blaubeuren.de/wp-content/uploads/2025/10/Kasper-auf-dem-Mond.jpg
END:VEVENT
BEGIN:VEVENT
DTSTART;TZID=UTC:20260118T160000
DTEND;TZID=UTC:20260118T170000
DTSTAMP:20260420T170408
CREATED:20251011T115148Z
LAST-MODIFIED:20251012T101735Z
UID:798-1768752000-1768755600@marionettentheater-blaubeuren.de
SUMMARY:Marionettentheater: Rumpelstilzchen
DESCRIPTION:Erleben Sie das beliebte Märchen „Rumpelstilzchen“ im Marionettentheater Blaubeuren – liebevoll inszeniert\, mitreißend erzählt und für die ganze Familie geeignet. Ein unvergessliches Marionettenspiel. \nDas berühmte Märchen der Brüder Grimm wird mit kunstvoll gestalteten Marionetten zum Leben erweckt. Freuen Sie sich auf spannende Szenen\, stimmungsvolle Musik und eine Atmosphäre\, die Jung und Alt in den Bann zieht. \nEmpfohlen für Kinder ab 6 Jahren und alle\, die klassische Märchen lieben. \nEintritt für Erwachsene 10 €\,\nKinder bis 14 Jahren 5€.
URL:https://marionettentheater-blaubeuren.de/programm/marionettentheater-blaubeuren-rumpelstilzchen/
LOCATION:Marionettentheater Blaubeuren\, Karlstraße 44\, Blaubeuren\, 89143\, Germany
CATEGORIES:Marionettentheater
ATTACH;FMTTYPE=image/jpeg:https://marionettentheater-blaubeuren.de/wp-content/uploads/2025/10/DSC3127-scaled.jpg
END:VEVENT
BEGIN:VEVENT
DTSTART;TZID=UTC:20251214T150000
DTEND;TZID=UTC:20251214T154500
DTSTAMP:20260420T170408
CREATED:20250504T172133Z
LAST-MODIFIED:20251013T074531Z
UID:691-1765724400-1765727100@marionettentheater-blaubeuren.de
SUMMARY:Kaspertheater: Weihnachtsfeier der besonderen Art
DESCRIPTION:Freuen Sie sich auf ein weihnachtliches Kaspertheater voller Überraschungen\, Humor und festlicher Stimmung! Diese Weihnachtsfeier ist alles andere als gewöhnlich – lassen Sie sich mitreißen von einem fröhlichen Theatererlebnis für die ganze Familie
URL:https://marionettentheater-blaubeuren.de/programm/kaspertheater-weihnachtsfeier-der-besonderen-art/
LOCATION:Theater in der Talmühle\, Karlstraße 44\, Blaubeuren\, 89143
CATEGORIES:Kaspertheater
ATTACH;FMTTYPE=image/jpeg:https://marionettentheater-blaubeuren.de/wp-content/uploads/2025/05/Kasper-und-der-Wanderzirkus2771.jpg
END:VEVENT
BEGIN:VEVENT
DTSTART;TZID=UTC:20251207T160000
DTEND;TZID=UTC:20251207T170000
DTSTAMP:20260420T170408
CREATED:20250504T171612Z
LAST-MODIFIED:20250504T171612Z
UID:689-1765123200-1765126800@marionettentheater-blaubeuren.de
SUMMARY:Marionettentheater: Rumpelstilzchen
DESCRIPTION:Ein letztes Mal in diesem Jahr öffnet sich der Vorhang für unser beliebtes Marionettenspiel. Gerade in der Vorweihnachtszeit entfaltet das Märchen seine besondere Magie. Kommen Sie vorbei und genießen Sie diese klassische Geschichte in stimmungsvoller Atmosphäre – ein Highlight für Kinder ab 6 Jahren und Erwachsene \n  \nKinder bis 15 Jahren Eintritt 5\,00 €
URL:https://marionettentheater-blaubeuren.de/programm/marionettentheater-rumpelstilzchen-3/
LOCATION:Theater in der Talmühle\, Karlstraße 44\, Blaubeuren\, 89143
CATEGORIES:Marionettentheater
END:VEVENT
BEGIN:VEVENT
DTSTART;TZID=UTC:20251116T170000
DTEND;TZID=UTC:20251116T183000
DTSTAMP:20260420T170408
CREATED:20250504T165440Z
LAST-MODIFIED:20250504T165440Z
UID:683-1763312400-1763317800@marionettentheater-blaubeuren.de
SUMMARY:Literatur & Musik: Im Herbst wird jedes Blatt zur Blüte
DESCRIPTION:Wenn die Tage kürzer werden und die Natur sich bunt verfärbt\, lädt Dichter und Jakobspilger Wolfgang Schneller zu einer lyrischen Reise durch den Herbst ein. Seine Gedichte schenken neue Perspektiven auf die oft melancholische Jahreszeit. Begleitet von den sanften Klängen der Harfe\, gespielt von Melanie Handel\, entsteht eine Atmosphäre der Besinnlichkeit. In der Pause und danach laden wir Sie herzlich zu einem wärmenden Glühwein oder Punsch ein – perfekte Momente für inspirierende Gespräche.
URL:https://marionettentheater-blaubeuren.de/programm/literatur-musik-im-herbst-wird-jedes-blatt-zur-bluete/
LOCATION:Theater in der Talmühle\, Karlstraße 44\, Blaubeuren\, 89143
CATEGORIES:Musik und Literatur
END:VEVENT
BEGIN:VEVENT
DTSTART;TZID=UTC:20251025T150000
DTEND;TZID=UTC:20251025T154500
DTSTAMP:20260420T170408
CREATED:20250504T161142Z
LAST-MODIFIED:20250504T161606Z
UID:671-1761404400-1761407100@marionettentheater-blaubeuren.de
SUMMARY:Kaspertheater: Kasper und die Doppelgängerin der Prinzessin
DESCRIPTION:Was für ein Durcheinander! Die Prinzessin scheint plötzlich zwei Gesichter zu haben – freundlich und liebenswert einerseits\, dann wieder unhöflich und gemein. Kann sie wirklich an zwei Orten gleichzeitig sein? Ein mysteriöser Fall\, den nur einer lösen kann: Kasper! Freuen Sie sich auf ein lustiges und spannendes Abenteuer\, bei dem Verwirrung garantiert ist und der Kasper seinen ganzen Scharfsinn beweisen muss.
URL:https://marionettentheater-blaubeuren.de/programm/kaspertheater-kasper-und-die-doppelgaengerin-der-prinzessin/
LOCATION:Theater in der Talmühle\, Karlstraße 44\, Blaubeuren\, 89143
CATEGORIES:Kaspertheater
END:VEVENT
BEGIN:VEVENT
DTSTART;TZID=UTC:20251019T160000
DTEND;TZID=UTC:20251019T170000
DTSTAMP:20260420T170408
CREATED:20250504T160558Z
LAST-MODIFIED:20250504T160714Z
UID:669-1760889600-1760893200@marionettentheater-blaubeuren.de
SUMMARY:Marionettentheater: Rumpelstilzchen
DESCRIPTION:Das beliebte Märchen der Brüder Grimm erwacht in einem kunstvollen Marionettenspiel zum Leben. Folgen Sie der spannenden Geschichte der Müllerstochter\, die scheinbar Unmögliches vollbringen muss. Mit viel Liebe zum Detail und beeindruckendem Puppenspiel wird dieser Klassiker zu einem Erlebnis für Groß und Klein. Ideal für Erwachsene und Kinder ab 6 Jahren\, die sich von der Magie alter Märchen verzaubern. \nKinder bis 15 Jahren zahlen 5 € Eintritt
URL:https://marionettentheater-blaubeuren.de/programm/marionettentheater-rumpelstilzchen/
LOCATION:Theater in der Talmühle\, Karlstraße 44\, Blaubeuren\, 89143
CATEGORIES:Marionettentheater
END:VEVENT
BEGIN:VEVENT
DTSTART;TZID=UTC:20251010T200000
DTEND;TZID=UTC:20251010T210000
DTSTAMP:20260420T170408
CREATED:20250504T154641Z
LAST-MODIFIED:20250504T154641Z
UID:667-1760126400-1760130000@marionettentheater-blaubeuren.de
SUMMARY:Musik & Literatur: Die Poesie von Popsongs und Balladen
DESCRIPTION:Erleben Sie einen besonderen Abend\, an dem Musik und Worte eins werden. Das Duo „Living Harmony“ verleiht bekannten Popsongs und Balladen eine neue Tiefe\, während Susanne Bäsel die deutschen Übersetzungen gefühlvoll und harmonisch zur Melodie vorträgt. Entdecken Sie die verborgene Poesie hinter den Liedern\, die uns tagtäglich begleiten. Lassen Sie sich von diesem einzigartigen Zusammenspiel aus Stimme\, Klang und Sprache verzaubern.
URL:https://marionettentheater-blaubeuren.de/programm/musik-literatur-die-poesie-von-popsongs-und-balladen/
LOCATION:Theater in der Talmühle\, Karlstraße 44\, Blaubeuren\, 89143
CATEGORIES:Musik und Literatur
END:VEVENT
BEGIN:VEVENT
DTSTART;TZID=UTC:20250921T150000
DTEND;TZID=UTC:20250921T154500
DTSTAMP:20260420T170408
CREATED:20250504T154212Z
LAST-MODIFIED:20250504T154212Z
UID:665-1758466800-1758469500@marionettentheater-blaubeuren.de
SUMMARY:Kaspertheater: Seppel und Gretel wollen nicht zur Schule gehen
DESCRIPTION:Was ist nur passiert? Die Ferien sind vorbei – doch Seppel und Gretel wollen plötzlich nicht mehr zur Schule!? Eigentlich haben sie sich doch so sehr auf das neue Schuljahr gefreut. Ob Seppels neuer Freund dahintersteckt? Begleiten Sie Kasper auf ein spannendes Abenteuer voller Witz\, Charme und guter Laune\, bei dem am Ende – wie immer – alles wieder ins Lot kommt. Ein Vergnügen für die ganze Familie!
URL:https://marionettentheater-blaubeuren.de/programm/kaspertheater-seppel-und-gretel-wollen-nicht-zur-schule-gehen-2/
LOCATION:Theater in der Talmühle\, Karlstraße 44\, Blaubeuren\, 89143
CATEGORIES:Kaspertheater
END:VEVENT
BEGIN:VEVENT
DTSTART;TZID=UTC:20250920T150000
DTEND;TZID=UTC:20250920T154500
DTSTAMP:20260420T170408
CREATED:20250504T153718Z
LAST-MODIFIED:20250504T153718Z
UID:662-1758380400-1758383100@marionettentheater-blaubeuren.de
SUMMARY:Kaspertheater: Seppel und Gretel wollen nicht zur Schule gehen
DESCRIPTION:🎭 Kaspertheater: „Seppel und Gretel wollen nicht zur Schule gehen“\nDie Ferien sind vorbei – doch Seppel und Gretel wollen plötzlich nicht mehr zur Schule! Was ist nur passiert? Eigentlich haben sie sich doch so sehr auf das neue Schuljahr gefreut. Ob Seppels neuer Freund dahintersteckt? Begleiten Sie Kasper auf ein spannendes Abenteuer voller Witz\, Charme und guter Laune\, bei dem am Ende – wie immer – alles wieder ins Lot kommt. Ein Vergnügen für die ganze Familie!
URL:https://marionettentheater-blaubeuren.de/programm/kaspertheater-seppel-und-gretel-wollen-nicht-zur-schule-gehen/
LOCATION:Theater in der Talmühle\, Karlstraße 44\, Blaubeuren\, 89143
CATEGORIES:Kaspertheater
END:VEVENT
BEGIN:VEVENT
DTSTART;TZID=UTC:20250601T160000
DTEND;TZID=UTC:20250601T180000
DTSTAMP:20260420T170408
CREATED:20250527T092214Z
LAST-MODIFIED:20250527T133636Z
UID:712-1748793600-1748800800@marionettentheater-blaubeuren.de
SUMMARY:🌧 Ersatzprogramm bei schlechtem Wetter: Walter Spira in der Talmühle
DESCRIPTION:Sollte das Open-Air-Event „Urgewalt & Farbenpracht“ am Sonntag\, 1. Juni 2025 wetterbedingt ausfallen\, findet als Ersatzveranstaltung ein Konzert mit Walter Spira um 16 Uhr in der Talmühle Blaubeuren statt. \nWalter Spira\, bekannt durch seine Auftritte im Nix\, begeistert mit Liedern voller Tiefgang und Humor – und bringt zahlreiche Fans mit. \n📍 Ort: Talmühle Blaubeuren🕓 Beginn: 16:00 Uhr🎶 Eintritt frei – Spenden willkommen \nHinweis:Die Entscheidung über die wetterbedingte Absage des Events „Urgewalt & Farbenpracht“ wird am Veranstaltungstag auf der Blautöne-Homepage sowie im Blaumännle (Freitag) veröffentlicht. Zusätzlich kann ab 10 Uhr bei der Tourist Info unter Tel. 07344 966990 nachgefragt werden.
URL:https://marionettentheater-blaubeuren.de/programm/%f0%9f%8c%a7-ersatzprogramm-bei-schlechtem-wetter-walter-spira-in-der-talmuehle/
LOCATION:Theater in der Talmühle\, Karlstraße 44\, Blaubeuren\, 89143
CATEGORIES:Musik und Literatur
ATTACH;FMTTYPE=image/jpeg:https://marionettentheater-blaubeuren.de/wp-content/uploads/2025/05/Walter-Spira_Presse_04-scaled-1.jpg
END:VEVENT
BEGIN:VEVENT
DTSTART;TZID=UTC:20250425T200000
DTEND;TZID=UTC:20250425T210000
DTSTAMP:20260420T170408
CREATED:20241103T110620Z
LAST-MODIFIED:20241103T110716Z
UID:505-1745611200-1745614800@marionettentheater-blaubeuren.de
SUMMARY:Literatur und Musik: Lesung mit Siegfried Hermann: „Du bist so jung wie deine Zuversicht“
DESCRIPTION:Dieses Zitat von Albert Schweitzer ist das Leitthema für einen heiteren und nachdenklichen Abend mit Lyrik und Poesie verschiedener Personen. Siegfried Hermann trägt die Texte aus seinem reichen literarischen Schatz vor\, musikalisch begleitet von Michel Hermann und Partner.
URL:https://marionettentheater-blaubeuren.de/programm/literatur-und-musik-lesung-mit-siegfried-hermann-du-bist-so-jung-wie-deine-zuversicht/
LOCATION:Theater in der Talmühle\, Karlstraße 44\, Blaubeuren\, 89143
CATEGORIES:Musik und Literatur
END:VEVENT
BEGIN:VEVENT
DTSTART;TZID=UTC:20250406T150000
DTEND;TZID=UTC:20250406T160000
DTSTAMP:20260420T170408
CREATED:20241103T110234Z
LAST-MODIFIED:20250120T065150Z
UID:502-1743951600-1743955200@marionettentheater-blaubeuren.de
SUMMARY:Kaspertheater: „Seppel in Not“
DESCRIPTION:Der erste April ist ja schon ein paar Tage vorbei. Aber den Seppel hat der Übermut gepackt. Er will den Kasper trotzdem noch in den April schicken. Leider gefällt das einem anderen Besucher des Waldes von Blaubeuren gar nicht.
URL:https://marionettentheater-blaubeuren.de/programm/kaspertheater-seppel-in-not-2/
LOCATION:Theater in der Talmühle\, Karlstraße 44\, Blaubeuren\, 89143
CATEGORIES:Kaspertheater
ATTACH;FMTTYPE=image/jpeg:https://marionettentheater-blaubeuren.de/wp-content/uploads/2024/11/DSC3077-scaled.jpg
END:VEVENT
BEGIN:VEVENT
DTSTART;TZID=UTC:20250405T150000
DTEND;TZID=UTC:20250405T160000
DTSTAMP:20260420T170408
CREATED:20241103T105817Z
LAST-MODIFIED:20250120T065223Z
UID:500-1743865200-1743868800@marionettentheater-blaubeuren.de
SUMMARY:Kaspertheater: „Seppel in Not“
DESCRIPTION:Der erste April ist ja schon ein paar Tage vorbei. Aber den Seppel hat der Übermut gepackt. Er will den Kasper trotzdem noch in den April schicken. Leider gefällt das einem anderen Besucher des Waldes von Blaubeuren gar nicht.
URL:https://marionettentheater-blaubeuren.de/programm/kaspertheater-seppel-in-not/
LOCATION:Theater in der Talmühle\, Karlstraße 44\, Blaubeuren\, 89143
CATEGORIES:Kaspertheater
ATTACH;FMTTYPE=image/jpeg:https://marionettentheater-blaubeuren.de/wp-content/uploads/2024/11/DSC3077-scaled.jpg
END:VEVENT
BEGIN:VEVENT
DTSTART;TZID=UTC:20250323T160000
DTEND;TZID=UTC:20250323T170000
DTSTAMP:20260420T170408
CREATED:20241103T105247Z
LAST-MODIFIED:20241103T111822Z
UID:498-1742745600-1742749200@marionettentheater-blaubeuren.de
SUMMARY:Marionettentheater: „Hänsel und Gretel“\, ein Marionettenspiel nach der Märchenoper von Engelbert Humperdinck.
DESCRIPTION:Mit den schönsten Melodien aus der Märchenoper inszeniert das Theater das alte Märchen\, allerdings ohne die böse Stiefmutter. \n\nGeeignet für Erwachsene und Kinder ab 8 Jahren. \nBeginn: 16 Uhr\, Eintritt: 10 € Erwachsene\, 5 € Kinder bis 15 Jahre
URL:https://marionettentheater-blaubeuren.de/programm/marionettentheater-haensel-und-gretel-ein-marionettenspiel-nach-der-maerchenoper-von-engelbert-humperdinck-4/
LOCATION:Theater in der Talmühle\, Karlstraße 44\, Blaubeuren\, 89143
CATEGORIES:Marionettentheater
ATTACH;FMTTYPE=image/jpeg:https://marionettentheater-blaubeuren.de/wp-content/uploads/2024/07/Haensel-und-Gretel-scaled.jpg
END:VEVENT
BEGIN:VEVENT
DTSTART;TZID=UTC:20250316T150000
DTEND;TZID=UTC:20250316T160000
DTSTAMP:20260420T170408
CREATED:20241103T104514Z
LAST-MODIFIED:20250114T130818Z
UID:496-1742137200-1742140800@marionettentheater-blaubeuren.de
SUMMARY:Kaspertheater: „Kasper und die Schatzkiste des Königs“
DESCRIPTION:Manchmal wird dem Kasper das Leben ganz schön schwer gemacht. Zum Beispiel dann\, wenn er auf die Schatzkiste des Königs aufpassen soll. Da sind einige Spitzbuben unterwegs. Aber Kasper findet Hilfe.
URL:https://marionettentheater-blaubeuren.de/programm/kaspertheater-kasper-und-die-schatzkiste-des-koenigs-2/
LOCATION:Theater in der Talmühle\, Karlstraße 44\, Blaubeuren\, 89143
CATEGORIES:Kaspertheater
ATTACH;FMTTYPE=image/jpeg:https://marionettentheater-blaubeuren.de/wp-content/uploads/2024/11/DSCF1219SchatzKoenig.jpg
END:VEVENT
BEGIN:VEVENT
DTSTART;TZID=UTC:20250315T150000
DTEND;TZID=UTC:20250315T160000
DTSTAMP:20260420T170408
CREATED:20241103T104107Z
LAST-MODIFIED:20250114T130918Z
UID:494-1742050800-1742054400@marionettentheater-blaubeuren.de
SUMMARY:Kaspertheater: „Kasper und die Schatzkiste des Königs“
DESCRIPTION:Manchmal wird dem Kasper das Leben ganz schön schwer gemacht. Zum Beispiel dann\, wenn er auf die Schatzkiste des Königs aufpassen soll. Da sind einige Spitzbuben unterwegs. Aber Kasper findet Hilfe.
URL:https://marionettentheater-blaubeuren.de/programm/kaspertheater-kasper-und-die-schatzkiste-des-koenigs/
LOCATION:Theater in der Talmühle\, Karlstraße 44\, Blaubeuren\, 89143
CATEGORIES:Kaspertheater
ATTACH;FMTTYPE=image/jpeg:https://marionettentheater-blaubeuren.de/wp-content/uploads/2024/11/DSCF1219SchatzKoenig.jpg
END:VEVENT
BEGIN:VEVENT
DTSTART;TZID=UTC:20250223T150000
DTEND;TZID=UTC:20250223T160000
DTSTAMP:20260420T170408
CREATED:20241103T102839Z
LAST-MODIFIED:20241202T063139Z
UID:490-1740322800-1740326400@marionettentheater-blaubeuren.de
SUMMARY:Kaspertheater: „Kasper und die Clownsmaske“
DESCRIPTION:Manchmal ist das Leben der Prinzessin doch recht langweilig. Aber das Erlebnis\, das sie mit der Clownsmaske hat\, die sie auf der Straße gefunden hat\, ist dann doch sehr aufregend.
URL:https://marionettentheater-blaubeuren.de/programm/kaspertheater-kasper-und-die-clownsmaske/
LOCATION:Theater in der Talmühle\, Karlstraße 44\, Blaubeuren\, 89143
CATEGORIES:Kaspertheater
ATTACH;FMTTYPE=image/jpeg:https://marionettentheater-blaubeuren.de/wp-content/uploads/2024/11/DSC3064-scaled.jpg
END:VEVENT
BEGIN:VEVENT
DTSTART;TZID=UTC:20250222T150000
DTEND;TZID=UTC:20250222T153000
DTSTAMP:20260420T170408
CREATED:20241103T102009Z
LAST-MODIFIED:20241202T063636Z
UID:485-1740236400-1740238200@marionettentheater-blaubeuren.de
SUMMARY:Kaspertheater: „Kasper und die Clownsmaske“
DESCRIPTION:Manchmal ist das Leben der Prinzessin doch recht langweilig. Aber das Erlebnis\, das sie mit der Clownsmaske hat\, die sie auf der Straße gefunden hat\, ist dann doch sehr aufregend.
URL:https://marionettentheater-blaubeuren.de/programm/kaspertheater-kasper-und-die-clownsmaske-2/
LOCATION:Theater in der Talmühle\, Karlstraße 44\, Blaubeuren\, 89143
CATEGORIES:Kaspertheater
ATTACH;FMTTYPE=image/jpeg:https://marionettentheater-blaubeuren.de/wp-content/uploads/2024/11/DSC3064-scaled.jpg
END:VEVENT
BEGIN:VEVENT
DTSTART;TZID=UTC:20250216T160000
DTEND;TZID=UTC:20250216T170000
DTSTAMP:20260420T170408
CREATED:20241103T100449Z
LAST-MODIFIED:20241103T111730Z
UID:480-1739721600-1739725200@marionettentheater-blaubeuren.de
SUMMARY:Marionettentheater: „Hänsel und Gretel“\, ein Marionettenspiel nach der Märchenoper von Engelbert Humperdinck.
DESCRIPTION:Mit den schönsten Melodien aus der Märchenoper inszeniert das Theater das alte Märchen\, allerdings ohne die böse Stiefmutter. \n\nGeeignet für Erwachsene und Kinder ab 8 Jahren. \nBeginn: 16 Uhr\, Eintritt: 10 € Erwachsene\, 5 € Kinder bis 15 Jahre
URL:https://marionettentheater-blaubeuren.de/programm/marionettentheater-haensel-und-gretel-2/
LOCATION:Theater in der Talmühle\, Karlstraße 44\, Blaubeuren\, 89143
CATEGORIES:Marionettentheater
ATTACH;FMTTYPE=image/jpeg:https://marionettentheater-blaubeuren.de/wp-content/uploads/2024/07/Haensel-und-Gretel-scaled.jpg
END:VEVENT
BEGIN:VEVENT
DTSTART;TZID=UTC:20250214T200000
DTEND;TZID=UTC:20250214T210000
DTSTAMP:20260420T170408
CREATED:20241103T101241Z
LAST-MODIFIED:20250128T122222Z
UID:483-1739563200-1739566800@marionettentheater-blaubeuren.de
SUMMARY:Literatur und Musik: „Die Magie der Mandoline …. und Dänen lügen nicht“
DESCRIPTION:Auf eine musikalische Reise nimmt uns Jesper Rübner-Petersen mit. Es gibt Saitenzauber auf hohem Niveau\, nicht nur mit der Mandoline\, auch die Oktav-Mandoline\, die Gitarre und das Banjo kommen zum Einsatz und zeigen die große Bandbreite seines Repertoires. Lustige Anekdoten aus seinem Leben als Musiker und als Däne ergänzen in seinem charmanten skandinavischen Akzent die Aufführung.
URL:https://marionettentheater-blaubeuren.de/programm/literatur-und-musik-die-magie-der-mandoline-und-daenen-luegen-nicht/
LOCATION:Theater in der Talmühle\, Karlstraße 44\, Blaubeuren\, 89143
CATEGORIES:Musik und Literatur
ATTACH;FMTTYPE=image/jpeg:https://marionettentheater-blaubeuren.de/wp-content/uploads/2024/11/Jesper-1.jpg
END:VEVENT
BEGIN:VEVENT
DTSTART;TZID=UTC:20250126T160000
DTEND;TZID=UTC:20250126T170000
DTSTAMP:20260420T170408
CREATED:20241103T100021Z
LAST-MODIFIED:20241103T111706Z
UID:477-1737907200-1737910800@marionettentheater-blaubeuren.de
SUMMARY:Marionettentheater: „Hänsel und Gretel“\, ein Marionettenspiel nach der Märchenoper von Engelbert Humperdinck.
DESCRIPTION:Mit den schönsten Melodien aus der Märchenoper inszeniert das Theater das alte Märchen\, allerdings ohne die böse Stiefmutter. \n\nGeeignet für Erwachsene und Kinder ab 8 Jahren. \nBeginn: 16 Uhr\, Eintritt: 10 € Erwachsene\, 5 € Kinder bis 15 Jahre
URL:https://marionettentheater-blaubeuren.de/programm/marionettentheater-haensel-und-gretel/
LOCATION:Theater in der Talmühle\, Karlstraße 44\, Blaubeuren\, 89143
CATEGORIES:Marionettentheater
ATTACH;FMTTYPE=image/jpeg:https://marionettentheater-blaubeuren.de/wp-content/uploads/2024/07/Haensel-und-Gretel-scaled.jpg
END:VEVENT
BEGIN:VEVENT
DTSTART;TZID=UTC:20250124T200000
DTEND;TZID=UTC:20250124T210000
DTSTAMP:20260420T170408
CREATED:20241103T095111Z
LAST-MODIFIED:20241103T095111Z
UID:475-1737748800-1737752400@marionettentheater-blaubeuren.de
SUMMARY:Literatur und Musik: „Es gibt sie noch\, die guten alten Balladen“
DESCRIPTION:Sie erzählen noch immer unterhaltsam von edlen Taten\, blutigen Verbrechen\, lustigen Streichen\, von Liebe und Tod. Sie lassen erschaudern\, weinen oder lachen. Lassen Sie sich mitreißen von ausgewählten Texten\, vorgetragen von Martin Morgen und Barbara Rinker\, musikalisch begleitet von Melanie Handel auf der Harfe.
URL:https://marionettentheater-blaubeuren.de/programm/literatur-und-musik-es-gibt-sie-noch-die-guten-alten-balladen/
LOCATION:Theater in der Talmühle\, Karlstraße 44\, Blaubeuren\, 89143
CATEGORIES:Musik und Literatur
END:VEVENT
BEGIN:VEVENT
DTSTART;TZID=UTC:20250119T150000
DTEND;TZID=UTC:20250119T153000
DTSTAMP:20260420T170408
CREATED:20241103T094108Z
LAST-MODIFIED:20241202T063337Z
UID:473-1737298800-1737300600@marionettentheater-blaubeuren.de
SUMMARY:Kaspertheater: „Kasper und das Hexentreffen“
DESCRIPTION:Meistens ist es die Hexe Holterdipolter\, die in Kasperbeuren immer mal Unfug anstellt. Aber\, wenn sie Besuch von Freundinnen hat\, dann ist was los.
URL:https://marionettentheater-blaubeuren.de/programm/kaspertheater-kasper-und-das-hexentreffen-2/
LOCATION:Theater in der Talmühle\, Karlstraße 44\, Blaubeuren\, 89143
CATEGORIES:Kaspertheater
ATTACH;FMTTYPE=image/jpeg:https://marionettentheater-blaubeuren.de/wp-content/uploads/2024/11/DSC3062-scaled.jpg
END:VEVENT
BEGIN:VEVENT
DTSTART;TZID=UTC:20250118T150000
DTEND;TZID=UTC:20250118T153000
DTSTAMP:20260420T170408
CREATED:20241103T093306Z
LAST-MODIFIED:20250108T111528Z
UID:468-1737212400-1737214200@marionettentheater-blaubeuren.de
SUMMARY:Kaspertheater: „Kasper und das Hexentreffen“
DESCRIPTION:Meistens ist es die Hexe Holterdipolter\, die in Kasperbeuren immer mal Unfug anstellt. Aber\, wenn sie Besuch von Freundinnen hat\, dann ist was los.
URL:https://marionettentheater-blaubeuren.de/programm/kaspertheater-kasper-und-das-hexentreffen/
LOCATION:Theater in der Talmühle\, Karlstraße 44\, Blaubeuren\, 89143
CATEGORIES:Kaspertheater
ATTACH;FMTTYPE=image/jpeg:https://marionettentheater-blaubeuren.de/wp-content/uploads/2024/11/DSC3062-scaled.jpg
END:VEVENT
BEGIN:VEVENT
DTSTART;TZID=UTC:20241221T150000
DTEND;TZID=UTC:20241221T160000
DTSTAMP:20260420T170408
CREATED:20240803T121047Z
LAST-MODIFIED:20240813T143549Z
UID:429-1734793200-1734796800@marionettentheater-blaubeuren.de
SUMMARY:Märchenstunde mit Barbara Rinker
DESCRIPTION:Märchenstunde\, Barbara Rinker liest Winter-Weihnachts-Märchen für Kinder und Erwachsene. \n\nEintritt: 5 € / Kinder bis 14 Jahre 2 €
URL:https://marionettentheater-blaubeuren.de/programm/maerchenstunde-mit-barbara-rinker/
LOCATION:Theater in der Talmühle\, Karlstraße 44\, Blaubeuren\, 89143
CATEGORIES:Musik und Literatur
ATTACH;FMTTYPE=image/jpeg:https://marionettentheater-blaubeuren.de/wp-content/uploads/2024/08/071-2.jpg
END:VEVENT
BEGIN:VEVENT
DTSTART;TZID=UTC:20241215T150000
DTEND;TZID=UTC:20241215T153000
DTSTAMP:20260420T170408
CREATED:20240719T043954Z
LAST-MODIFIED:20241206T123337Z
UID:412-1734274800-1734276600@marionettentheater-blaubeuren.de
SUMMARY:Kaspertheater: „Kasper und die gestohlenen Weihnachtsplätzchen“
DESCRIPTION:Wie immer hat die Oma Weihnachtsplätzchen gebacken eine ganze Reihe von Dosen stehen gefüllt in der Küche. Aber als Gretel zum Kaffee kommt\, sind alle Dosen leer. Oh je! \n\nWo sind Omas Plätzchen geblieben? Und wie kann es sein\, dass Seppel auf dem Weihnachtsmarkt Plätzchen einkauft\, die genauso aussehen\, wie die von Oma? \nWurde Oma bestohlen? Von wem? Und welche Rolle spielt die Hexe dabei? Aufklärung bringen der Kasper und der Polizist Grantelhuber.
URL:https://marionettentheater-blaubeuren.de/programm/kaspertheater-kasper-und-die-gestohlenen-weihnachtsplaetzchen-2/
CATEGORIES:Kaspertheater
END:VEVENT
END:VCALENDAR