BEGIN:VCALENDAR
VERSION:2.0
PRODID:-// - ECPv6.15.20//NONSGML v1.0//EN
CALSCALE:GREGORIAN
METHOD:PUBLISH
X-ORIGINAL-URL:https://marionettentheater-blaubeuren.de
X-WR-CALDESC:Veranstaltungen für 
REFRESH-INTERVAL;VALUE=DURATION:PT1H
X-Robots-Tag:noindex
X-PUBLISHED-TTL:PT1H
BEGIN:VTIMEZONE
TZID:Europe/Paris
BEGIN:DAYLIGHT
TZOFFSETFROM:+0100
TZOFFSETTO:+0200
TZNAME:CEST
DTSTART:20230326T010000
END:DAYLIGHT
BEGIN:STANDARD
TZOFFSETFROM:+0200
TZOFFSETTO:+0100
TZNAME:CET
DTSTART:20231029T010000
END:STANDARD
BEGIN:DAYLIGHT
TZOFFSETFROM:+0100
TZOFFSETTO:+0200
TZNAME:CEST
DTSTART:20240331T010000
END:DAYLIGHT
BEGIN:STANDARD
TZOFFSETFROM:+0200
TZOFFSETTO:+0100
TZNAME:CET
DTSTART:20241027T010000
END:STANDARD
BEGIN:DAYLIGHT
TZOFFSETFROM:+0100
TZOFFSETTO:+0200
TZNAME:CEST
DTSTART:20250330T010000
END:DAYLIGHT
BEGIN:STANDARD
TZOFFSETFROM:+0200
TZOFFSETTO:+0100
TZNAME:CET
DTSTART:20251026T010000
END:STANDARD
END:VTIMEZONE
BEGIN:VEVENT
DTSTART;TZID=Europe/Paris:20240421T160000
DTEND;TZID=Europe/Paris:20240421T173000
DTSTAMP:20260423T180427
CREATED:20231225T074259Z
LAST-MODIFIED:20240112T081810Z
UID:134-1713715200-1713720600@marionettentheater-blaubeuren.de
SUMMARY:Marionettentheater: „Kalif Storch“
DESCRIPTION:„Kalif Storch“ Überlistet vom Zauberer Kaschnur verwandeln sich der Kalif von Bagdad und sein Wesir in Störche. Was sie dabei erleben\, zeigt das Marionettenstück nach dem Märchen von Wilhelm Hauff. Es ist geeignet für Erwachsene und Kinder ab 6 Jahren. \nEintritt: 10 € Erw. / 5 € Kinder (bis 15 Jahre)
URL:https://marionettentheater-blaubeuren.de/programm/marionettentheater-kalif-storch-4/
LOCATION:Theater in der Talmühle\, Karlstraße 44\, Blaubeuren\, 89143
CATEGORIES:Marionettentheater
ATTACH;FMTTYPE=image/jpeg:https://marionettentheater-blaubeuren.de/wp-content/uploads/2023/12/Kalif-Storch.jpg
END:VEVENT
END:VCALENDAR